BEGIN:VCALENDAR
VERSION:2.0
PRODID:icalendar-ruby
CALSCALE:GREGORIAN
METHOD:PUBLISH
BEGIN:VEVENT
DTSTAMP:20260420T190308Z
UID:14-1100664@mindenpresbyterian.tithelysetup5.com
DTSTART:20261028T223000Z
DTEND:20261029T000000Z
CLASS:PUBLIC
CREATED:20260420T115244
DESCRIPTION:
LAST-MODIFIED:20260420T115244
LOCATION:Gym and Kitchen
SUMMARY:Youth Gathering
URL;VALUE=URI:https://minden-epc.org/events/youth-gathering/2026-10-28
END:VEVENT
END:VCALENDAR
