BEGIN:VCALENDAR
VERSION:2.0
PRODID:icalendar-ruby
CALSCALE:GREGORIAN
METHOD:PUBLISH
BEGIN:VEVENT
DTSTAMP:20260420T155344Z
UID:14-1099838@mindenpresbyterian.tithelysetup5.com
DTSTART:20261014T223000Z
DTEND:20261015T000000Z
CLASS:PUBLIC
CREATED:20260420T091847
DESCRIPTION:
LAST-MODIFIED:20260420T091847
LOCATION:Gym and Kitchen
SUMMARY:Youth Gathering
URL;VALUE=URI:https://minden-epc.org/events/youth-gathering/2026-10-14
END:VEVENT
END:VCALENDAR
