BEGIN:VCALENDAR
VERSION:2.0
PRODID:icalendar-ruby
CALSCALE:GREGORIAN
METHOD:PUBLISH
BEGIN:VEVENT
DTSTAMP:20260422T020721Z
UID:20-1108243@mindenpresbyterian.tithelysetup5.com
DTSTART:20261011T154500Z
DTEND:20261011T164500Z
CLASS:PUBLIC
CREATED:20260421T195239
DESCRIPTION:
LAST-MODIFIED:20260421T195239
LOCATION:Minden Presbyterian Church
SUMMARY:Sunday Worship
URL;VALUE=URI:https://minden-epc.org/events/sunday-worship/2026-10-11
ATTACH;FILENAME=church-interior-cross.jpg;FMTTYPE=image/jpeg:https://dq5pwp
 g1q8ru0.cloudfront.net/2023/09/07/09/00/22/357eaa44-8753-4ae1-91c4-a8eea59
 04e9f/church-interior-cross.jpg
END:VEVENT
END:VCALENDAR
