BEGIN:VCALENDAR
VERSION:2.0
PRODID:icalendar-ruby
CALSCALE:GREGORIAN
METHOD:PUBLISH
BEGIN:VEVENT
DTSTAMP:20260420T043406Z
UID:8-1097202@mindenpresbyterian.tithelysetup5.com
DTSTART:20261025T143000Z
DTEND:20261025T153000Z
CLASS:PUBLIC
CREATED:20260419T221459
DESCRIPTION:
LAST-MODIFIED:20260419T221459
LOCATION:Minden Presbyterian Church
SUMMARY:Sunday School
URL;VALUE=URI:https://minden-epc.org/events/sunday-school/2026-10-25
END:VEVENT
END:VCALENDAR
