BEGIN:VCALENDAR
VERSION:2.0
PRODID:icalendar-ruby
CALSCALE:GREGORIAN
METHOD:PUBLISH
BEGIN:VEVENT
DTSTAMP:20260420T030728Z
UID:8-1096377@mindenpresbyterian.tithelysetup5.com
DTSTART:20261018T143000Z
DTEND:20261018T153000Z
CLASS:PUBLIC
CREATED:20260419T183642
DESCRIPTION:
LAST-MODIFIED:20260419T183642
LOCATION:Minden Presbyterian Church
SUMMARY:Sunday School
URL;VALUE=URI:https://minden-epc.org/events/sunday-school/2026-10-18
END:VEVENT
END:VCALENDAR
