BEGIN:VCALENDAR
VERSION:2.0
PRODID:icalendar-ruby
CALSCALE:GREGORIAN
METHOD:PUBLISH
BEGIN:VEVENT
DTSTAMP:20260420T121558Z
UID:6-1098522@mindenpresbyterian.tithelysetup5.com
DTSTART:20261029T223000Z
DTEND:20261030T000000Z
CLASS:PUBLIC
CREATED:20260420T064315
DESCRIPTION:
LAST-MODIFIED:20260420T064315
LOCATION:The Gym 
SUMMARY:Christ Fit
URL;VALUE=URI:https://minden-epc.org/events/christ-fit/2026-10-29
END:VEVENT
END:VCALENDAR
