BEGIN:VCALENDAR
VERSION:2.0
PRODID:icalendar-ruby
CALSCALE:GREGORIAN
METHOD:PUBLISH
BEGIN:VEVENT
DTSTAMP:20260420T105039Z
UID:6-1097697@mindenpresbyterian.tithelysetup5.com
DTSTART:20261022T223000Z
DTEND:20261023T000000Z
CLASS:PUBLIC
CREATED:20260420T015154
DESCRIPTION:
LAST-MODIFIED:20260420T015154
LOCATION:The Gym 
SUMMARY:Christ Fit
URL;VALUE=URI:https://minden-epc.org/events/christ-fit/2026-10-22
END:VEVENT
END:VCALENDAR
