BEGIN:VCALENDAR
VERSION:2.0
PRODID:icalendar-ruby
CALSCALE:GREGORIAN
METHOD:PUBLISH
BEGIN:VEVENT
DTSTAMP:20260420T210803Z
UID:7-1101158@mindenpresbyterian.tithelysetup5.com
DTSTART:20261027T223000Z
DTEND:20261028T000000Z
CLASS:PUBLIC
CREATED:20260420T142725
DESCRIPTION:
LAST-MODIFIED:20260420T142725
LOCATION:Minden Presbyterian Church
SUMMARY:Christ Fit
URL;VALUE=URI:https://minden-epc.org/events/christ-fit--7/2026-10-27
END:VEVENT
END:VCALENDAR
