BEGIN:VCALENDAR
VERSION:2.0
PRODID:icalendar-ruby
CALSCALE:GREGORIAN
METHOD:PUBLISH
BEGIN:VEVENT
DTSTAMP:20260420T193323Z
UID:7-1101157@mindenpresbyterian.tithelysetup5.com
DTSTART:20261020T223000Z
DTEND:20261021T000000Z
CLASS:PUBLIC
CREATED:20260420T142725
DESCRIPTION:
LAST-MODIFIED:20260420T142725
LOCATION:Minden Presbyterian Church
SUMMARY:Christ Fit
URL;VALUE=URI:https://minden-epc.org/events/christ-fit--7/2026-10-20
END:VEVENT
END:VCALENDAR
