BEGIN:VCALENDAR
VERSION:2.0
PRODID:icalendar-ruby
CALSCALE:GREGORIAN
METHOD:PUBLISH
BEGIN:VEVENT
DTSTAMP:20260420T175507Z
UID:7-1100332@mindenpresbyterian.tithelysetup5.com
DTSTART:20261013T223000Z
DTEND:20261014T000000Z
CLASS:PUBLIC
CREATED:20260420T115243
DESCRIPTION:
LAST-MODIFIED:20260420T115243
LOCATION:Minden Presbyterian Church
SUMMARY:Christ Fit
URL;VALUE=URI:https://minden-epc.org/events/christ-fit--7/2026-10-13
END:VEVENT
END:VCALENDAR
